BEGIN:VCALENDAR
VERSION:2.0
PRODID:-//IoT Security Foundation - ECPv6.15.20//NONSGML v1.0//EN
CALSCALE:GREGORIAN
METHOD:PUBLISH
X-ORIGINAL-URL:https://iotsecurityfoundation.org
X-WR-CALDESC:Events for IoT Security Foundation
REFRESH-INTERVAL;VALUE=DURATION:PT1H
X-Robots-Tag:noindex
X-PUBLISHED-TTL:PT1H
BEGIN:VTIMEZONE
TZID:Europe/London
BEGIN:DAYLIGHT
TZOFFSETFROM:+0000
TZOFFSETTO:+0100
TZNAME:BST
DTSTART:20160327T010000
END:DAYLIGHT
BEGIN:STANDARD
TZOFFSETFROM:+0100
TZOFFSETTO:+0000
TZNAME:GMT
DTSTART:20161030T010000
END:STANDARD
BEGIN:DAYLIGHT
TZOFFSETFROM:+0000
TZOFFSETTO:+0100
TZNAME:BST
DTSTART:20170326T010000
END:DAYLIGHT
BEGIN:STANDARD
TZOFFSETFROM:+0100
TZOFFSETTO:+0000
TZNAME:GMT
DTSTART:20171029T010000
END:STANDARD
BEGIN:DAYLIGHT
TZOFFSETFROM:+0000
TZOFFSETTO:+0100
TZNAME:BST
DTSTART:20180325T010000
END:DAYLIGHT
BEGIN:STANDARD
TZOFFSETFROM:+0100
TZOFFSETTO:+0000
TZNAME:GMT
DTSTART:20181028T010000
END:STANDARD
BEGIN:DAYLIGHT
TZOFFSETFROM:+0000
TZOFFSETTO:+0100
TZNAME:BST
DTSTART:20190331T010000
END:DAYLIGHT
BEGIN:STANDARD
TZOFFSETFROM:+0100
TZOFFSETTO:+0000
TZNAME:GMT
DTSTART:20191027T010000
END:STANDARD
BEGIN:DAYLIGHT
TZOFFSETFROM:+0000
TZOFFSETTO:+0100
TZNAME:BST
DTSTART:20200329T010000
END:DAYLIGHT
BEGIN:STANDARD
TZOFFSETFROM:+0100
TZOFFSETTO:+0000
TZNAME:GMT
DTSTART:20201025T010000
END:STANDARD
BEGIN:DAYLIGHT
TZOFFSETFROM:+0000
TZOFFSETTO:+0100
TZNAME:BST
DTSTART:20210328T010000
END:DAYLIGHT
BEGIN:STANDARD
TZOFFSETFROM:+0100
TZOFFSETTO:+0000
TZNAME:GMT
DTSTART:20211031T010000
END:STANDARD
BEGIN:DAYLIGHT
TZOFFSETFROM:+0000
TZOFFSETTO:+0100
TZNAME:BST
DTSTART:20220327T010000
END:DAYLIGHT
BEGIN:STANDARD
TZOFFSETFROM:+0100
TZOFFSETTO:+0000
TZNAME:GMT
DTSTART:20221030T010000
END:STANDARD
END:VTIMEZONE
BEGIN:VEVENT
DTSTART;TZID=Europe/London:20211123T100000
DTEND;TZID=Europe/London:20211123T110000
DTSTAMP:20260420T142009
CREATED:20211109T184347Z
LAST-MODIFIED:20211109T184347Z
UID:21381-1637661600-1637665200@iotsecurityfoundation.org
SUMMARY:IoTSF Member Event: Meeting the Challenge of OTA for Embedded Linux Systems
DESCRIPTION:Webinar Overview:\nIn this webinar we look at the challenges of managing the process of updating software on embedded Linux systems remotely – often referred to as an Over The Air or OTA update. \nThe Webinar will cover: \n\nThe necessity and challenges of updating devices in the field\nSecurity issues when dealing with remote device updates\nThe importance of a robust implementation\nAdditional security measures required for OTA\nAdding an OTA mechanism to an embedded Linux build system\, like Yocto.\n\nToradex will demonstrate how this challenge can be solved in a real world example\, using the Torizon Platform on hardware featuring NXP i.MX Applications Processors. \n  \nCLICK HERE TO REGISTER \nAsia and Europe\nTuesday\, November 23\, 2021 \nTime: 10-11am (GMT) 11am-12pm (CET) 3.30-4.30pm (IST) \n\n\nAmericas\nTuesday\, November 23\, 2021 \nTime: 10-11am (PST) 11-12pm (MST) 12-1pm (CST) 1-2pm (EST)
URL:https://iotsecurityfoundation.org/event/iotsf-member-event-meeting-the-challenge-of-ota-for-embedded-linux-systems/
CATEGORIES:Training,Webinar
ATTACH;FMTTYPE=image/png:https://iotsecurityfoundation.org/wp-content/uploads/2021/11/Untitled-design-3-1.png
END:VEVENT
BEGIN:VEVENT
DTSTART;VALUE=DATE:20210705
DTEND;VALUE=DATE:20210711
DTSTAMP:20260420T142009
CREATED:20210602T102800Z
LAST-MODIFIED:20210708T130356Z
UID:21167-1625443200-1625961599@iotsecurityfoundation.org
SUMMARY:Promoted Event: Hardwear.io Security Trainings & Conference USA 2021
DESCRIPTION:About this event\n\n\nHardwear.io Security Conference and Training is a platform for hardware and security community where researchers showcase and discuss their innovative research on attacking and defending hardware. \nThe third hardwear.io – USA edition will include practical 4-Days online trainings and 2 days conference includes technical Talks\, CTF & Fixup networking event. \nFor more information\, visit: https://hardwear.io/usa-2021 \n\nTraining Date: 5-8 July 2021 | Time: 9:00am to 2:00pm PDT\nConference Date: 9-10 July 2021 | Time: 9:00am to 1:00pm PDT\n\nTraining List \n\nAssessing and Exploiting PLCs by Justin\nProtecting the CAN bus by Ken\nIC Reverse Engineering Code Dump by Olivier\nOptimizing crypto on embedded microcontrollers by Peter Schwabe\nReverse Engineering Firmware with Ghidra by Eric\nBootPwn: Breaking Secure Boot by Experience by Niek & Cristofaros\nEMFI and Voltage Fault injection attacks with Raiden by Grzegorz & Adam\n\nKeynote Speakers: \n\nProf. Yongdae Kim\, Department of Electrical Engineering at KAIST\nColin O’Flynn\, C.T.O. of NewAE Technology\n\nConference Talks:  \n\nJiska Classen: Interacting with *OS hardware from user space\nAndrew Zonenberg: Boost your hardware reversing with glscopeclient\nTa-Lun Yen: Enabling dynamic analysis of Legacy Embedded Systems in full emulated environment\nJoshua Beaker: Proving the efficacy of software countermeasures for fault injection\n\nEXCLUSIVE IoTSF DISCOUNT: use COMMUNITY5 for 5% discount on training \nFor more information\, visit: https://hardwear.io/usa-2021
URL:https://iotsecurityfoundation.org/event/promoted-event-hardwear-io-security-trainings-conference-usa-2021/
CATEGORIES:Conference,Promoted Events,Training,Workshop
ATTACH;FMTTYPE=image/jpeg:https://iotsecurityfoundation.org/wp-content/uploads/2021/06/HW-USA-2021_final__General-docial-media-1.jpg
END:VEVENT
BEGIN:VEVENT
DTSTART;TZID=Europe/London:20210127T090000
DTEND;TZID=Europe/London:20210130T140000
DTSTAMP:20260420T142009
CREATED:20201214T154147Z
LAST-MODIFIED:20210112T105814Z
UID:20998-1611738000-1612015200@iotsecurityfoundation.org
SUMMARY:Hardwear.io Security Training Berlin 2021
DESCRIPTION:Are you interested in reverse engineering\, side channel analysis\, fault injection attacks\, whitebox crypto\, or just hardware security in general? Hardwear.io offers some amazing hands-on live training in January 2021 – all online! \nJoin one of the upcoming Hardware Security Trainings: \n• Assessing and Exploiting Control Systems & IIoT by Justin Searle\n• Breaking Practical White-Box Crypto by Guillaume Vinet\n• EMFI and Voltage Fault injection attacks with Raiden by Adam Laurie & Grzegorz Wypych\n• Advanced Microcontrollers Firmware Exploitation by Alexander Bolshev and Tao Sauvage \nCLICK HERE TO SECURE YOUR TICKET\nVisit the website – https://hardwear.io/berlin-2021/online-training
URL:https://iotsecurityfoundation.org/event/hardwear-io-security-training-berlin-2021/
LOCATION:Webinar
CATEGORIES:Training
ATTACH;FMTTYPE=image/jpeg:https://iotsecurityfoundation.org/wp-content/uploads/2020/12/BERLIN_Square.jpg
END:VEVENT
BEGIN:VEVENT
DTSTART;TZID=Europe/London:20200927T080000
DTEND;TZID=Europe/London:20201002T200000
DTSTAMP:20260420T142009
CREATED:20200917T081844Z
LAST-MODIFIED:20200917T081844Z
UID:20913-1601193600-1601668800@iotsecurityfoundation.org
SUMMARY:Hardwear.io Security Trainings and Conference Netherlands 2020
DESCRIPTION:Are you someone who is into embedded and hardware security? There are some amazing live hands-on trainings and conference talks offered by Hardwear.io this year – all online! \nHardwear.io Security Conference & Trainings is a platform for the hardware and security community\, where researchers showcase and discuss their innovative research on attacking and defending hardware. \nTraining: 27th to 30th September; 9.00 AM – 2.00 PM CEST \nConference: 1st to 2nd October; 6.00 PM – 9.00 PM CEST \nRegistration: https://hardwear.io/netherlands-2020/online-training.php \nConference Talks:  \n\nTaming Hydrofluoric Acid to Extract Firmware by John McMaster\nJackHammer: Rowhammer and Cache Attacks on Heterogeneous FPGA-CPU Platforms by Daniel Moghimi\, Thore Tiemann\, Zane Weissman\nPractical reverse engineering of ECC-based authentication device with zero knowledge by Dr. Sergei Skorobogatov\nReversing & Emulating Samsung’s Shannon Baseband by Grant Hernandez & Marius Muench\nCANanalyze: a python framework for automotive protocols by Erwan Le Disez & Etienne Charron\nToasting MCUs: A Firmware Extraction by EMFI by Karim M. Abdellatif & Olivier Hériveaux\nThings not to do when using an IOMMU by Ilja van Sprundel & Joseph Tartaro\nBadVibes – Sound Recovery using Bulb’s Vibrations by Boris Zadov & Yaron Pirutin\nLooking at Silicon by Ken Shirriff\nUnder the hood of a CPU: Reverse Engineering the P6 microcode by Peter Bosch\n\nHardware Security Trainings: \n\nConnected car hacking by Guillaume Heilles & Maxime Rossi Bellom\nHunting UEFI firmware implants by Alex Matrosov(postponed to 2-5 Nov)\nTEEPwn: breaking TEEs by experience by Cristofaro Mune\nRF hacking with software-defined radio by Sébastien Dudek\nBootPwn – pwning secure boot by experience by Niek Timmers\nMachine learning and SCA: an advanced tutorial by Stjepan Picek\nAdvanced microcontrollers firmware exploitation by Alexander Bolshev\nEmbedded physical attacks 101 by Lejla Batina\, Kostas Papagiannopoulos\, Leo Weissbart & Niels Samwel
URL:https://iotsecurityfoundation.org/event/hardwear-io-security-trainings-and-conference-netherlands-2020/
CATEGORIES:Conference,Training
ATTACH;FMTTYPE=image/jpeg:https://iotsecurityfoundation.org/wp-content/uploads/2020/09/HW_Conference_Registration.jpg
END:VEVENT
BEGIN:VEVENT
DTSTART;VALUE=DATE:20191112
DTEND;VALUE=DATE:20191114
DTSTAMP:20260420T142009
CREATED:20190129T142621Z
LAST-MODIFIED:20190619T094733Z
UID:19020-1573516800-1573689599@iotsecurityfoundation.org
SUMMARY:IoTSF Training Course : Foundations of  IoT Security / Austria
DESCRIPTION:At the completion of this course\, attendees will know how to secure a connected IoT product from scratch. This course is run across 2 days. \nCourse attendees benefit from a fully inclusive package\, will receive a certificate of completion\, be registered on the IoTSF database and inducted into the Training Alumni platform. \nInterested parties are encouraged to book early as places are limited \nFind Out More
URL:https://iotsecurityfoundation.org/event/iotsf-training-course-foundations-of-iot-security-austria/
LOCATION:Innsbruck\, Austria
CATEGORIES:Training
ATTACH;FMTTYPE=image/jpeg:https://iotsecurityfoundation.org/wp-content/uploads/2019/01/iot-training2.jpg
END:VEVENT
BEGIN:VEVENT
DTSTART;VALUE=DATE:20190924
DTEND;VALUE=DATE:20190926
DTSTAMP:20260420T142009
CREATED:20190129T141605Z
LAST-MODIFIED:20190619T094734Z
UID:19011-1569283200-1569455999@iotsecurityfoundation.org
SUMMARY:IoTSF Training Course : Foundations of  IoT Security / UK
DESCRIPTION:At the completion of this course\, attendees will know how to secure a connected IoT product from scratch. This course is run across 2 days. \nCourse attendees benefit from a fully inclusive package\, will receive a certificate of completion\, be registered on the IoTSF database and inducted into the Training Alumni platform. \nInterested parties are encouraged to book early as places are limited \nFind Out More
URL:https://iotsecurityfoundation.org/event/iotsf-training-course-foundations-of-iot-security/
LOCATION:Windsor\, United Kingdom
CATEGORIES:Training
ATTACH;FMTTYPE=image/jpeg:https://iotsecurityfoundation.org/wp-content/uploads/2019/01/iot-training2.jpg
ORGANIZER;CN="John Moor":MAILTO:john.moor@iotsecurityfoundation.org
END:VEVENT
BEGIN:VEVENT
DTSTART;TZID=Europe/London:20190923T080000
DTEND;TZID=Europe/London:20190927T170000
DTSTAMP:20260420T142009
CREATED:20190916T085611Z
LAST-MODIFIED:20190916T085611Z
UID:19359-1569225600-1569603600@iotsecurityfoundation.org
SUMMARY:Hardware Security Conference & Training\, Netherlands 2019 (IoTSF Promoted Event)
DESCRIPTION:Join Hardwear.io for an action packed week of hardware security training and conference; meet hardware experts\, enjoy research talks\, participate in hands-on training & workshops\, CXO panel discussions\, or compete for the hardpwn & CTF! \nRead more and register your place here: https://hardwear.io/netherlands-2019 \n  \n 
URL:https://iotsecurityfoundation.org/event/hardware-security-conference-training-netherlands-2019-iotsf-promoted-event/
LOCATION:NH Den Haag\, Prinses Margrietplantsoen 100\, The Hague\, 2595 BR\, Netherlands
CATEGORIES:Conference,Training
END:VEVENT
BEGIN:VEVENT
DTSTART;TZID=Europe/London:20190618T080000
DTEND;TZID=Europe/London:20190618T170000
DTSTAMP:20260420T142009
CREATED:20190605T094154Z
LAST-MODIFIED:20190619T094734Z
UID:19224-1560844800-1560877200@iotsecurityfoundation.org
SUMMARY:Doulos Embedded Know How Workshop (IoTSF Promoted Event)
DESCRIPTION:  \n \nIoTSF members Doulos are hosting an Embedded Know How Workshop at the Green Park Conference Centre in Reading on 18th June for embedded engineers looking for a practical introduction to key topics.  This event hosts 4 training tracks in: Embedded Linux\, Embedded Security\, Deep Learning & Moving to Embedded C++. \n5 good reasons not to miss this opportunity\n1. A full day of Doulos training for just £99+vat (valued at £850!)\n2. A choice of 4 streams in key subject areas\n3. Live interactive presentations with Doulos expert trainers\n4. Valuable take-away resources you can use in your working environment\n5. Network with industry organisations and professionals \nRead more and register here: https://www.doulos.com/content/events/EmbeddedKnowHowWorkshops.php
URL:https://iotsecurityfoundation.org/event/doulos-embedded-know-how-workshop-iotsf-promoted-event/
LOCATION:Hilton Hotel Reading\, Drake Way\,\, Reading\, RG2 0GQ\, United Kingdom
CATEGORIES:Training,Workshop
END:VEVENT
BEGIN:VEVENT
DTSTART;TZID=Europe/London:20170704T080000
DTEND;TZID=Europe/London:20170705T170000
DTSTAMP:20260420T142009
CREATED:20170509T143323Z
LAST-MODIFIED:20190619T094746Z
UID:16992-1499155200-1499274000@iotsecurityfoundation.org
SUMMARY:IoT Security Training :
DESCRIPTION:The IoT Security Foundation is now offering training courses for the IoT community. \nAt the completion of this course\, attendees will know how to secure a connected IoT product from scratch. \nThis course is run across 2 days on July 4th / 5th at the Macdonald Windsor Hotel. \nCourse attendees benefit from a fully inclusive package\, will receive a certificate of completion and be registered on the IoTSF database. \nMore details\, including how to book\, can be found on the training landing page here.
URL:https://iotsecurityfoundation.org/event/iot-security-training/
LOCATION:Macdonald Windsor Hotel\, SL41LH\, United Kingdom
CATEGORIES:Training
ATTACH;FMTTYPE=image/png:https://iotsecurityfoundation.org/wp-content/uploads/2015/09/IoT-Security-Training-2.png
END:VEVENT
END:VCALENDAR