BEGIN:VCALENDAR
VERSION:2.0
PRODID:-//IoT Security Foundation - ECPv6.15.20//NONSGML v1.0//EN
CALSCALE:GREGORIAN
METHOD:PUBLISH
X-ORIGINAL-URL:https://iotsecurityfoundation.org
X-WR-CALDESC:Events for IoT Security Foundation
REFRESH-INTERVAL;VALUE=DURATION:PT1H
X-Robots-Tag:noindex
X-PUBLISHED-TTL:PT1H
BEGIN:VTIMEZONE
TZID:Europe/London
BEGIN:DAYLIGHT
TZOFFSETFROM:+0000
TZOFFSETTO:+0100
TZNAME:BST
DTSTART:20250330T010000
END:DAYLIGHT
BEGIN:STANDARD
TZOFFSETFROM:+0100
TZOFFSETTO:+0000
TZNAME:GMT
DTSTART:20251026T010000
END:STANDARD
BEGIN:DAYLIGHT
TZOFFSETFROM:+0000
TZOFFSETTO:+0100
TZNAME:BST
DTSTART:20260329T010000
END:DAYLIGHT
BEGIN:STANDARD
TZOFFSETFROM:+0100
TZOFFSETTO:+0000
TZNAME:GMT
DTSTART:20261025T010000
END:STANDARD
BEGIN:DAYLIGHT
TZOFFSETFROM:+0000
TZOFFSETTO:+0100
TZNAME:BST
DTSTART:20270328T010000
END:DAYLIGHT
BEGIN:STANDARD
TZOFFSETFROM:+0100
TZOFFSETTO:+0000
TZNAME:GMT
DTSTART:20271031T010000
END:STANDARD
END:VTIMEZONE
BEGIN:VEVENT
DTSTART;TZID=Europe/London:20260129T140000
DTEND;TZID=Europe/London:20260129T150000
DTSTAMP:20260422T125016
CREATED:20251106T141721Z
LAST-MODIFIED:20251210T155722Z
UID:27442-1769695200-1769698800@iotsecurityfoundation.org
SUMMARY:Webinar: 'Building adaptive IoT security with AI-generated attack simulation' and 'CRA-compliant software development with zero-trust attestation'
DESCRIPTION:
URL:https://us06web.zoom.us/webinar/register/WN_QXoMAI5cTfqXvdSHr3vyzw#/registration#new_tab
LOCATION:Webinar
CATEGORIES:Webinar
ATTACH;FMTTYPE=image/png:https://iotsecurityfoundation.org/wp-content/uploads/2025/11/January-2025-webinar_processed_by_imagy.png
ORGANIZER;CN="IoT Security Foundation":MAILTO:contact@iotsecurityfoundation.org
END:VEVENT
END:VCALENDAR