BEGIN:VCALENDAR
VERSION:2.0
PRODID:-//IoT Security Foundation - ECPv6.15.20//NONSGML v1.0//EN
CALSCALE:GREGORIAN
METHOD:PUBLISH
X-ORIGINAL-URL:https://iotsecurityfoundation.org
X-WR-CALDESC:Events for IoT Security Foundation
REFRESH-INTERVAL;VALUE=DURATION:PT1H
X-Robots-Tag:noindex
X-PUBLISHED-TTL:PT1H
BEGIN:VTIMEZONE
TZID:Europe/London
BEGIN:DAYLIGHT
TZOFFSETFROM:+0000
TZOFFSETTO:+0100
TZNAME:BST
DTSTART:20220327T010000
END:DAYLIGHT
BEGIN:STANDARD
TZOFFSETFROM:+0100
TZOFFSETTO:+0000
TZNAME:GMT
DTSTART:20221030T010000
END:STANDARD
BEGIN:DAYLIGHT
TZOFFSETFROM:+0000
TZOFFSETTO:+0100
TZNAME:BST
DTSTART:20230326T010000
END:DAYLIGHT
BEGIN:STANDARD
TZOFFSETFROM:+0100
TZOFFSETTO:+0000
TZNAME:GMT
DTSTART:20231029T010000
END:STANDARD
BEGIN:DAYLIGHT
TZOFFSETFROM:+0000
TZOFFSETTO:+0100
TZNAME:BST
DTSTART:20240331T010000
END:DAYLIGHT
BEGIN:STANDARD
TZOFFSETFROM:+0100
TZOFFSETTO:+0000
TZNAME:GMT
DTSTART:20241027T010000
END:STANDARD
END:VTIMEZONE
BEGIN:VEVENT
DTSTART;TZID=Europe/London:20230718T120000
DTEND;TZID=Europe/London:20230718T163000
DTSTAMP:20260420T184127
CREATED:20230608T141129Z
LAST-MODIFIED:20230711T101331Z
UID:22186-1689681600-1689697800@iotsecurityfoundation.org
SUMMARY:Engineering Trustworthy AI Workshop
DESCRIPTION:Engineering Trustworthy AI Workshop\nRegister TECHWORKS PARTNERED WORKSHOP: OPEN TO ALL\nThe role of automation is set to increase in cybersecurity and trust in those systems is essential. IoTSF is keen to support the development of trustworthy AI systems and – as a member of the TechWorks family of connected communities – we are co-hosting a workshop for interested parties to ensure our efforts are purposeful and coordinated across stakeholder groups. \nOur key question: AI innovation is accelerating and the legislative and governance responses are being rapidly assembled; but how should industry collectively respond to ensure a healthy balance between innovation and protection?  \nAt the workshop\, we will dive into what it takes to engineer trustworthy AI systems and how a collaborative effort can support that intent. We will be exploring the constituent parts such as design schemas\, methods\, approaches\, best practices\, frameworks\, and the potential for standards. Whilst the core theme will be “engineering AI systems”\, we cannot achieve our aim without understanding the wider contexts presented by the business\, policy\, legal and ethical themes as well. If your interest is in any of these areas – you should come along as we want to hear from you. \nThis is your opportunity to present your position and help forge the collective industry response. \nAs an outcome of the workshop\, we will:\n\nIdentify and prioritise areas for collective industry action.\nPublish the results and start building appropriate industry-led groups.\n\nWe hope to see you there!
URL:https://iotsecurityfoundation.org/event/engineering-trustworthy-ai-workshop/
LOCATION:The Caledonian Club\, 9 Halkin Street\, Belgravia\, London\, SW1X 7DR\, United Kingdom
CATEGORIES:Workshop
ATTACH;FMTTYPE=image/png:https://iotsecurityfoundation.org/wp-content/uploads/2023/06/ai-workshop-7-1.png
END:VEVENT
END:VCALENDAR