BEGIN:VCALENDAR
VERSION:2.0
PRODID:-//IoT Security Foundation - ECPv6.15.20//NONSGML v1.0//EN
CALSCALE:GREGORIAN
METHOD:PUBLISH
X-ORIGINAL-URL:https://iotsecurityfoundation.org
X-WR-CALDESC:Events for IoT Security Foundation
REFRESH-INTERVAL;VALUE=DURATION:PT1H
X-Robots-Tag:noindex
X-PUBLISHED-TTL:PT1H
BEGIN:VTIMEZONE
TZID:Europe/London
BEGIN:DAYLIGHT
TZOFFSETFROM:+0000
TZOFFSETTO:+0100
TZNAME:BST
DTSTART:20250330T010000
END:DAYLIGHT
BEGIN:STANDARD
TZOFFSETFROM:+0100
TZOFFSETTO:+0000
TZNAME:GMT
DTSTART:20251026T010000
END:STANDARD
BEGIN:DAYLIGHT
TZOFFSETFROM:+0000
TZOFFSETTO:+0100
TZNAME:BST
DTSTART:20260329T010000
END:DAYLIGHT
BEGIN:STANDARD
TZOFFSETFROM:+0100
TZOFFSETTO:+0000
TZNAME:GMT
DTSTART:20261025T010000
END:STANDARD
BEGIN:DAYLIGHT
TZOFFSETFROM:+0000
TZOFFSETTO:+0100
TZNAME:BST
DTSTART:20270328T010000
END:DAYLIGHT
BEGIN:STANDARD
TZOFFSETFROM:+0100
TZOFFSETTO:+0000
TZNAME:GMT
DTSTART:20271031T010000
END:STANDARD
END:VTIMEZONE
BEGIN:VEVENT
DTSTART;TZID=Europe/London:20260217T150000
DTEND;TZID=Europe/London:20260217T160000
DTSTAMP:20260421T225016
CREATED:20260120T152906Z
LAST-MODIFIED:20260120T153020Z
UID:27732-1771340400-1771344000@iotsecurityfoundation.org
SUMMARY:IoTSF Device Identity Forum – February 2026 meeting
DESCRIPTION:IoTSF Device Identity Forum – February 2026 meeting \n \nDetails\, minutes and meeting links are available via our members platform.
URL:https://iotsecurityfoundation.org/event/iotsf-device-identity-forum-february-2026-meeting/
CATEGORIES:Meeting,Virtual Meeting
ATTACH;FMTTYPE=image/png:https://iotsecurityfoundation.org/wp-content/uploads/2025/06/Add-a-heading-1.png
END:VEVENT
BEGIN:VEVENT
DTSTART;TZID=Europe/London:20260223T150000
DTEND;TZID=Europe/London:20260223T160000
DTSTAMP:20260421T225016
CREATED:20260209T153118Z
LAST-MODIFIED:20260209T153231Z
UID:27845-1771858800-1771862400@iotsecurityfoundation.org
SUMMARY:IoTSF Regulatory Watch working group meeting - February 2026 part 2
DESCRIPTION:IoTSF Regulatory Watch working group meeting – February 2026 part 2 \n \nWith the RED guide now complete\, we continue with the initial stages of our new project on voluntary labelling schemes. Details and meeting links are available via our members’ platform.
URL:https://iotsecurityfoundation.org/event/iotsf-regulatory-watch-working-group-meeting-february-2026-part-2/
CATEGORIES:Meeting,Virtual Meeting
ATTACH;FMTTYPE=image/png:https://iotsecurityfoundation.org/wp-content/uploads/2025/07/Regulatory-Watch-graphic.png
END:VEVENT
BEGIN:VEVENT
DTSTART;TZID=Europe/London:20260224T140000
DTEND;TZID=Europe/London:20260224T150000
DTSTAMP:20260421T225016
CREATED:20260114T173456Z
LAST-MODIFIED:20260114T173919Z
UID:27720-1771941600-1771945200@iotsecurityfoundation.org
SUMMARY:Women in TechWorks - Town Hall
DESCRIPTION:ManuSec Europe Summit – An official IoT Security Foundation partner event
URL:https://us06web.zoom.us/meeting/register/imVMlyIFQjGefElq13OLLA#new_tab
CATEGORIES:Meeting,TechWorks Event,Virtual Meeting
ATTACH;FMTTYPE=image/png:https://iotsecurityfoundation.org/wp-content/uploads/2026/01/women-in-techworks-1.png
ORGANIZER;CN="IoT Security Foundation":MAILTO:contact@iotsecurityfoundation.org
END:VEVENT
BEGIN:VEVENT
DTSTART;TZID=Europe/London:20260224T150000
DTEND;TZID=Europe/London:20260224T160000
DTSTAMP:20260421T225016
CREATED:20260122T173030Z
LAST-MODIFIED:20260122T173030Z
UID:27771-1771945200-1771948800@iotsecurityfoundation.org
SUMMARY:IoTSF Energy special interest group meeting - February 2026
DESCRIPTION:IoTSF Energy special interest group (SIG) meeting – January 2026 \n \nThis is a members-only meeting – joining details are available via the members’ platform or by contacting us.
URL:https://iotsecurityfoundation.org/event/iotsf-energy-special-interest-group-meeting-february-2026/
CATEGORIES:Meeting,Virtual Meeting
ATTACH;FMTTYPE=image/png:https://iotsecurityfoundation.org/wp-content/uploads/2025/08/IoTSF.png
END:VEVENT
BEGIN:VEVENT
DTSTART;VALUE=DATE:20260226
DTEND;VALUE=DATE:20260228
DTSTAMP:20260421T225016
CREATED:20251113T151938Z
LAST-MODIFIED:20251113T152723Z
UID:27492-1772064000-1772236799@iotsecurityfoundation.org
SUMMARY:ManuSec Europe Summit (IoTSF official partner event)
DESCRIPTION:ManuSec Europe Summit – An official IoT Security Foundation partner event
URL:https://europe.manusecevent.com/register/#new_tab
CATEGORIES:Summit
ATTACH;FMTTYPE=image/jpeg:https://iotsecurityfoundation.org/wp-content/uploads/2025/11/ManuSec-2026.jpg
ORGANIZER;CN="IoT Security Foundation":MAILTO:contact@iotsecurityfoundation.org
END:VEVENT
BEGIN:VEVENT
DTSTART;TZID=Europe/London:20260226T140000
DTEND;TZID=Europe/London:20260226T150000
DTSTAMP:20260421T225016
CREATED:20260129T132327Z
LAST-MODIFIED:20260129T132327Z
UID:27789-1772114400-1772118000@iotsecurityfoundation.org
SUMMARY:IoTSF webinar\, February 2026: Quantum Safety in IoT
DESCRIPTION:
URL:https://us06web.zoom.us/webinar/register/WN_Zl77gxMdSASw8dUe3QhfgQ#/registration#new_tab
CATEGORIES:Webinar
ATTACH;FMTTYPE=image/png:https://iotsecurityfoundation.org/wp-content/uploads/2026/01/March-Webinar-Graphics-5.png
END:VEVENT
BEGIN:VEVENT
DTSTART;TZID=Europe/London:20260311T140000
DTEND;TZID=Europe/London:20260311T150000
DTSTAMP:20260421T225016
CREATED:20260212T154522Z
LAST-MODIFIED:20260320T104659Z
UID:28049-1773237600-1773241200@iotsecurityfoundation.org
SUMMARY:IoTSF Assurance Framework working group meeting - March 2026
DESCRIPTION:IoTSF Assurance Framework meeting – March 2026 \n \nDetails\, notes and meeting links are available via our members’ platform.
URL:https://iotsecurityfoundation.org/event/iotsf-assurance-framework-working-group-meeting-march-2026/
CATEGORIES:Virtual Meeting
ATTACH;FMTTYPE=image/png:https://iotsecurityfoundation.org/wp-content/uploads/2025/07/IoTSF.png
END:VEVENT
BEGIN:VEVENT
DTSTART;TZID=Europe/London:20260319T140000
DTEND;TZID=Europe/London:20260319T150000
DTSTAMP:20260421T225016
CREATED:20260224T124237Z
LAST-MODIFIED:20260224T124237Z
UID:28106-1773928800-1773932400@iotsecurityfoundation.org
SUMMARY:TechWorks-AI webinar with Bill Bauman (co-founder and CEO of Ntur AI)
DESCRIPTION:
URL:https://us06web.zoom.us/webinar/register/WN_cwGztU5uQPCmMYJ70N4e-A#/registration#new_tab
CATEGORIES:TechWorks Event,Webinar
ATTACH;FMTTYPE=image/png:https://iotsecurityfoundation.org/wp-content/uploads/2026/02/TWAI-March-2026-webinar.png
END:VEVENT
BEGIN:VEVENT
DTSTART;TZID=Europe/London:20260319T140000
DTEND;TZID=Europe/London:20260319T160000
DTSTAMP:20260421T225016
CREATED:20260218T100017Z
LAST-MODIFIED:20260218T103439Z
UID:28079-1773928800-1773936000@iotsecurityfoundation.org
SUMMARY:AESIN: 'In-cabin sensing: Accelerating NCAP compliance through simulation
DESCRIPTION:
URL:https://aesin.org.uk/event/in-cabin-sensing-accelerating-ncap-compliance-through-simulation/#new_tab
CATEGORIES:Promoted Events,TechWorks Event,Virtual Meeting,Webinar,Workshop
ATTACH;FMTTYPE=image/jpeg:https://iotsecurityfoundation.org/wp-content/uploads/2026/02/AESIN-event-not-webinar-thing-1.jpg
END:VEVENT
BEGIN:VEVENT
DTSTART;TZID=Europe/London:20260325T140000
DTEND;TZID=Europe/London:20260325T150000
DTSTAMP:20260421T225016
CREATED:20260120T153940Z
LAST-MODIFIED:20260120T154058Z
UID:27733-1774447200-1774450800@iotsecurityfoundation.org
SUMMARY:Women in TechWorks Tech Talk - March 2026
DESCRIPTION:
URL:https://us06web.zoom.us/webinar/register/WN_myh7CvXQSHON_bK6A38paQ#/registration#new_tab
CATEGORIES:Webinar
ATTACH;FMTTYPE=image/jpeg:https://iotsecurityfoundation.org/wp-content/uploads/2026/01/women-in-techworks-March-2026-webinar.jpg
END:VEVENT
BEGIN:VEVENT
DTSTART;VALUE=DATE:20260326
DTEND;VALUE=DATE:20260328
DTSTAMP:20260421T225016
CREATED:20260216T105831Z
LAST-MODIFIED:20260216T105831Z
UID:28056-1774483200-1774655999@iotsecurityfoundation.org
SUMMARY:CHERI Blossoms Conference 2026
DESCRIPTION:
URL:https://cheri-alliance.org/events/cheri-blossoms-conference-2026/#new_tab
LOCATION:William Gates Building\, University of Cambridge
CATEGORIES:Conference
ATTACH;FMTTYPE=image/png:https://iotsecurityfoundation.org/wp-content/uploads/2026/02/CHERI-Blossoms-Conference-2026.png
END:VEVENT
BEGIN:VEVENT
DTSTART;TZID=Europe/London:20260326T140000
DTEND;TZID=Europe/London:20260326T150000
DTSTAMP:20260421T225016
CREATED:20260225T114902Z
LAST-MODIFIED:20260226T122156Z
UID:28113-1774533600-1774537200@iotsecurityfoundation.org
SUMMARY:IoTSF March 2026 webinar
DESCRIPTION:
URL:https://us06web.zoom.us/webinar/register/WN_yk2By_aoQbKk0iI0ENitxg#new_tab
CATEGORIES:Webinar
ATTACH;FMTTYPE=image/png:https://iotsecurityfoundation.org/wp-content/uploads/2026/02/IoTSF-March-2026-webinar-promo.png
END:VEVENT
BEGIN:VEVENT
DTSTART;TZID=Europe/London:20260407T150000
DTEND;TZID=Europe/London:20260407T160000
DTSTAMP:20260421T225016
CREATED:20260217T162146Z
LAST-MODIFIED:20260302T171718Z
UID:28073-1775574000-1775577600@iotsecurityfoundation.org
SUMMARY:IoTSF Device Identity Forum – April 2026 meeting
DESCRIPTION:IoTSF Device Identity Forum – April 2026 meeting \n \nDetails\, minutes and meeting links are available via our members’ platform.
URL:https://iotsecurityfoundation.org/event/iotsf-device-identity-forum-march-2026-meeting/
CATEGORIES:Virtual Meeting,Working Group Meeting
ATTACH;FMTTYPE=image/png:https://iotsecurityfoundation.org/wp-content/uploads/2025/06/Add-a-heading-1.png
END:VEVENT
BEGIN:VEVENT
DTSTART;VALUE=DATE:20260416
DTEND;VALUE=DATE:20260417
DTSTAMP:20260421T225016
CREATED:20260218T090225Z
LAST-MODIFIED:20260218T090225Z
UID:28074-1776297600-1776383999@iotsecurityfoundation.org
SUMMARY:FPGA Frontrunner Event
DESCRIPTION:
URL:https://desn.org.uk/event/fpga-frontrunner-2026/#new_tab
LOCATION:Microchip\, 720 Wharfedale Road\, Winnersh\, Reading\, RG41 5TP
CATEGORIES:TechWorks Event
ATTACH;FMTTYPE=image/png:https://iotsecurityfoundation.org/wp-content/uploads/2026/02/Featured-Image-3.png
END:VEVENT
BEGIN:VEVENT
DTSTART;TZID=Europe/London:20260421T140000
DTEND;TZID=Europe/London:20260421T150000
DTSTAMP:20260421T225016
CREATED:20260303T183035Z
LAST-MODIFIED:20260303T183035Z
UID:28139-1776780000-1776783600@iotsecurityfoundation.org
SUMMARY:IoTSF Quantum Safe IoT special interest group (SIG) meeting – April 2026
DESCRIPTION:IoTSF Quantum Safe IoT SIG meeting – April 2026 \n \nDetails\, notes and meeting links are available via our members’ platform. Quantropi will discuss their IoT protection suite and their work with ARM and vault
URL:https://iotsecurityfoundation.org/event/iotsf-quantum-safe-iot-special-interest-group-sig-meeting-april-2026/
CATEGORIES:Meeting,SIG
ATTACH;FMTTYPE=image/png:https://iotsecurityfoundation.org/wp-content/uploads/2025/11/IoTSF-1.png
END:VEVENT
BEGIN:VEVENT
DTSTART;TZID=Europe/London:20260423T140000
DTEND;TZID=Europe/London:20260423T150000
DTSTAMP:20260421T225016
CREATED:20260326T110725Z
LAST-MODIFIED:20260416T130325Z
UID:28221-1776952800-1776956400@iotsecurityfoundation.org
SUMMARY:IoTSF April 2026 webinar
DESCRIPTION:
URL:https://us06web.zoom.us/webinar/register/WN_Lg_DkdFZSx-6TwSdFY5Hxg#new_tab
CATEGORIES:Webinar
ATTACH;FMTTYPE=image/png:https://iotsecurityfoundation.org/wp-content/uploads/2026/03/March-Webinar-Graphics-32-1.png
END:VEVENT
BEGIN:VEVENT
DTSTART;TZID=Europe/London:20260505T150000
DTEND;TZID=Europe/London:20260505T160000
DTSTAMP:20260421T225016
CREATED:20260408T103401Z
LAST-MODIFIED:20260408T103401Z
UID:28268-1777993200-1777996800@iotsecurityfoundation.org
SUMMARY:IoTSF Device Identity Forum – May 2026 meeting
DESCRIPTION:IoTSF Device Identity Forum – May 2026 meeting \n \nDetails\, minutes and meeting links are available via our members’ platform.
URL:https://iotsecurityfoundation.org/event/iotsf-device-identity-forum-may-2026-meeting/
CATEGORIES:Virtual Meeting
ATTACH;FMTTYPE=image/png:https://iotsecurityfoundation.org/wp-content/uploads/2025/06/Add-a-heading-1.png
END:VEVENT
BEGIN:VEVENT
DTSTART;TZID=Europe/London:20260511T140000
DTEND;TZID=Europe/London:20260511T150000
DTSTAMP:20260421T225016
CREATED:20260223T142318Z
LAST-MODIFIED:20260413T131113Z
UID:28105-1778508000-1778511600@iotsecurityfoundation.org
SUMMARY:IoTSF Regulatory Watch working group meeting – May 2026
DESCRIPTION:IoTSF Regulatory Watch working group meeting – May 2026 \n \nDetails and meeting links are available via our members’ platform.
URL:https://iotsecurityfoundation.org/event/iotsf-regulatory-watch-working-group-meeting-may-2026/
CATEGORIES:Working Group Meeting
ATTACH;FMTTYPE=image/png:https://iotsecurityfoundation.org/wp-content/uploads/2025/07/Regulatory-Watch-graphic.png
END:VEVENT
BEGIN:VEVENT
DTSTART;TZID=Europe/London:20260512T140000
DTEND;TZID=Europe/London:20260512T150000
DTSTAMP:20260421T225016
CREATED:20260210T115744Z
LAST-MODIFIED:20260416T130036Z
UID:27847-1778594400-1778598000@iotsecurityfoundation.org
SUMMARY:IoTSF Smart Built Environment working group meeting – May 2026
DESCRIPTION:IoTSF Smart Built Environment meeting – May 2026 \n \nDetails\, notes and meeting links are available via our members’ platform.
URL:https://iotsecurityfoundation.org/event/iotsf-smart-built-environment-working-group-meeting-march-2026/
CATEGORIES:Virtual Meeting
ATTACH;FMTTYPE=image/png:https://iotsecurityfoundation.org/wp-content/uploads/2025/06/IoTSF-SBE2.png
END:VEVENT
BEGIN:VEVENT
DTSTART;TZID=Europe/London:20260519T150000
DTEND;TZID=Europe/London:20260519T160000
DTSTAMP:20260421T225016
CREATED:20260224T165919Z
LAST-MODIFIED:20260414T143035Z
UID:28109-1779202800-1779206400@iotsecurityfoundation.org
SUMMARY:IoTSF Energy special interest group meeting - May 2026
DESCRIPTION:IoTSF Energy special interest group (SIG) meeting – May 2026 \n \nThis is a members-only meeting – joining details are available via the members’ platform or by contacting us.
URL:https://iotsecurityfoundation.org/event/iotsf-energy-special-interest-group-meeting-may-2026/
CATEGORIES:SIG,Virtual Meeting
ATTACH;FMTTYPE=image/png:https://iotsecurityfoundation.org/wp-content/uploads/2025/08/IoTSF.png
END:VEVENT
BEGIN:VEVENT
DTSTART;TZID=Europe/London:20260521T140000
DTEND;TZID=Europe/London:20260521T150000
DTSTAMP:20260421T225016
CREATED:20260310T124851Z
LAST-MODIFIED:20260310T124851Z
UID:28169-1779372000-1779375600@iotsecurityfoundation.org
SUMMARY:IoTSF Best Practice working group meeting - May 2026
DESCRIPTION:IoTSF Best Practice working group meeting – May 2026 \n \nDetails\, notes and meeting links are available via our members’ platform.
URL:https://iotsecurityfoundation.org/event/iotsf-best-practice-working-group-meeting-may-2026/
CATEGORIES:Meeting,Virtual Meeting
ATTACH;FMTTYPE=image/png:https://iotsecurityfoundation.org/wp-content/uploads/2026/03/IoTSF-1.png
END:VEVENT
BEGIN:VEVENT
DTSTART;VALUE=DATE:20260617
DTEND;VALUE=DATE:20260618
DTSTAMP:20260421T225016
CREATED:20260218T101056Z
LAST-MODIFIED:20260313T170335Z
UID:28081-1781654400-1781740799@iotsecurityfoundation.org
SUMMARY:Women in TechWorks: Engineering Intelligently
DESCRIPTION:
URL:https://techworks.org.uk/event/women-in-techworks-engineering-intelligently/#new_tab
CATEGORIES:Summit,TechWorks Event
ATTACH;FMTTYPE=image/png:https://iotsecurityfoundation.org/wp-content/uploads/2026/02/WITW-Engineering-Intelligently.png
END:VEVENT
BEGIN:VEVENT
DTSTART;TZID=Europe/London:20260723T120000
DTEND;TZID=Europe/London:20260723T130000
DTSTAMP:20260421T225016
CREATED:20260226T122605Z
LAST-MODIFIED:20260226T122705Z
UID:28127-1784808000-1784811600@iotsecurityfoundation.org
SUMMARY:AESIN Tech Talk -  'How to cut the cost of continuous cyber compliance'
DESCRIPTION:
URL:https://us06web.zoom.us/webinar/register/WN_TnhbgnDhTMGu65SpW1Wfug#new_tab
CATEGORIES:TechWorks Event,Webinar
ATTACH;FMTTYPE=image/png:https://iotsecurityfoundation.org/wp-content/uploads/2026/02/Featured-Image-12_processed_by_imagy_processed_by_imagy.png
END:VEVENT
BEGIN:VEVENT
DTSTART;VALUE=DATE:20260922
DTEND;VALUE=DATE:20260924
DTSTAMP:20260421T225016
CREATED:20260320T104435Z
LAST-MODIFIED:20260320T104435Z
UID:28207-1790035200-1790207999@iotsecurityfoundation.org
SUMMARY:The Things Conference 2026 (official IoTSF partner event)
DESCRIPTION:
URL:https://www.thethingsconference.com/#new_tab
LOCATION:De Kromhouthal\, Gedempt Hamerkanaal 231\, Amsterdam\, 1021 KP\, Netherlands
ATTACH;FMTTYPE=image/png:https://iotsecurityfoundation.org/wp-content/uploads/2026/03/Untitled-design-33.png
END:VEVENT
BEGIN:VEVENT
DTSTART;VALUE=DATE:20261111
DTEND;VALUE=DATE:20261113
DTSTAMP:20260421T225016
CREATED:20260416T121746Z
LAST-MODIFIED:20260416T122045Z
UID:28300-1794355200-1794527999@iotsecurityfoundation.org
SUMMARY:Global IOT Congress 2026 (GIC26)
DESCRIPTION:
URL:https://iotsecurityfoundation.org/official-event-supporting-partner-for-gic26/#new_tab
LOCATION:The Arena\, Gharnatah Imam abdullah bin saud bin abdulaziz Road\, Ghirnatah\, Riyadh\, 13241\, Saudi Arabia
CATEGORIES:Conference
ATTACH;FMTTYPE=image/png:https://iotsecurityfoundation.org/wp-content/uploads/2026/04/Untitled-design-56.png
END:VEVENT
END:VCALENDAR