BEGIN:VCALENDAR
VERSION:2.0
PRODID:-//IoT Security Foundation - ECPv6.15.20//NONSGML v1.0//EN
CALSCALE:GREGORIAN
METHOD:PUBLISH
X-ORIGINAL-URL:https://iotsecurityfoundation.org
X-WR-CALDESC:Events for IoT Security Foundation
REFRESH-INTERVAL;VALUE=DURATION:PT1H
X-Robots-Tag:noindex
X-PUBLISHED-TTL:PT1H
BEGIN:VTIMEZONE
TZID:Europe/London
BEGIN:DAYLIGHT
TZOFFSETFROM:+0000
TZOFFSETTO:+0100
TZNAME:BST
DTSTART:20240331T010000
END:DAYLIGHT
BEGIN:STANDARD
TZOFFSETFROM:+0100
TZOFFSETTO:+0000
TZNAME:GMT
DTSTART:20241027T010000
END:STANDARD
BEGIN:DAYLIGHT
TZOFFSETFROM:+0000
TZOFFSETTO:+0100
TZNAME:BST
DTSTART:20250330T010000
END:DAYLIGHT
BEGIN:STANDARD
TZOFFSETFROM:+0100
TZOFFSETTO:+0000
TZNAME:GMT
DTSTART:20251026T010000
END:STANDARD
BEGIN:DAYLIGHT
TZOFFSETFROM:+0000
TZOFFSETTO:+0100
TZNAME:BST
DTSTART:20260329T010000
END:DAYLIGHT
BEGIN:STANDARD
TZOFFSETFROM:+0100
TZOFFSETTO:+0000
TZNAME:GMT
DTSTART:20261025T010000
END:STANDARD
END:VTIMEZONE
BEGIN:VEVENT
DTSTART;TZID=Europe/London:20251121T150000
DTEND;TZID=Europe/London:20251121T160000
DTSTAMP:20260422T151701
CREATED:20251020T102604Z
LAST-MODIFIED:20251020T102604Z
UID:27430-1763737200-1763740800@iotsecurityfoundation.org
SUMMARY:IoTSF Energy Special Interest Group (SIG) meeting - November 2025
DESCRIPTION:IoTSF Energy Special Interest Group (SIG) meeting – November 2025 \n \nThis is a members-only meeting – joining details are available via the members platform or by contacting us.
URL:https://iotsecurityfoundation.org/event/iotsf-energy-special-interest-group-sig-meeting-november-2025/
CATEGORIES:Virtual Meeting
ATTACH;FMTTYPE=image/png:https://iotsecurityfoundation.org/wp-content/uploads/2025/08/IoTSF.png
ORGANIZER;CN="IoT Security Foundation":MAILTO:contact@iotsecurityfoundation.org
END:VEVENT
END:VCALENDAR